BEGIN:VCALENDAR
VERSION:2.0
PRODID:-//SINGLE LOVE CITY - ECPv5.9.1//NONSGML v1.0//EN
CALSCALE:GREGORIAN
METHOD:PUBLISH
X-WR-CALNAME:SINGLE LOVE CITY
X-ORIGINAL-URL:https://www.singlelove.es
X-WR-CALDESC:Eventos para SINGLE LOVE CITY
BEGIN:VTIMEZONE
TZID:Europe/Madrid
BEGIN:DAYLIGHT
TZOFFSETFROM:+0100
TZOFFSETTO:+0200
TZNAME:CEST
DTSTART:20240331T010000
END:DAYLIGHT
BEGIN:STANDARD
TZOFFSETFROM:+0200
TZOFFSETTO:+0100
TZNAME:CET
DTSTART:20241027T010000
END:STANDARD
END:VTIMEZONE
BEGIN:VEVENT
DTSTART;TZID=Europe/Madrid:20241214T230000
DTEND;TZID=Europe/Madrid:20241215T060000
DTSTAMP:20260423T104116
CREATED:20241207T113130Z
LAST-MODIFIED:20241207T113130Z
UID:5945-1734217200-1734242400@www.singlelove.es
SUMMARY:Single Love City - American Party
DESCRIPTION:
URL:https://www.singlelove.es/evento/single-love-city-american-party-2/
LOCATION:Single Love City\, Avenida Alcalde de Móstoles 2\, Móstoles\, Madrid\, 28932\, España
CATEGORIES:Eventos
ATTACH;FMTTYPE=image/jpeg:https://www.singlelove.es/wp-content/uploads/2024/12/s14-american-party-dec-24.redimensionado.jpeg
END:VEVENT
END:VCALENDAR