BEGIN:VCALENDAR
VERSION:2.0
PRODID:-//SINGLE LOVE CITY - ECPv5.9.1//NONSGML v1.0//EN
CALSCALE:GREGORIAN
METHOD:PUBLISH
X-WR-CALNAME:SINGLE LOVE CITY
X-ORIGINAL-URL:https://www.singlelove.es
X-WR-CALDESC:Eventos para SINGLE LOVE CITY
BEGIN:VTIMEZONE
TZID:Europe/Madrid
BEGIN:DAYLIGHT
TZOFFSETFROM:+0100
TZOFFSETTO:+0200
TZNAME:CEST
DTSTART:20210328T010000
END:DAYLIGHT
BEGIN:STANDARD
TZOFFSETFROM:+0200
TZOFFSETTO:+0100
TZNAME:CET
DTSTART:20211031T010000
END:STANDARD
END:VTIMEZONE
BEGIN:VEVENT
DTSTART;TZID=Europe/Madrid:20211217T230000
DTEND;TZID=Europe/Madrid:20211218T060000
DTSTAMP:20260423T171951
CREATED:20211214T061415Z
LAST-MODIFIED:20230413T172656Z
UID:2783-1639782000-1639807200@www.singlelove.es
SUMMARY:Play Art Center - Sala SBK - Viernes
DESCRIPTION:Play Art Center – Sala SBK – Viernes \nDJ CUMBANCHERO
URL:https://www.singlelove.es/evento/play-art-center-sala-sbk-viernes/
LOCATION:Single Love City\, Avenida Alcalde de Móstoles 2\, Móstoles\, Madrid\, 28932\, España
CATEGORIES:Diciembre 2021,Eventos
ATTACH;FMTTYPE=image/jpeg:https://www.singlelove.es/wp-content/uploads/2021/12/viernes-sbk-cuadrado_IMGP.jpeg
END:VEVENT
END:VCALENDAR